BEGIN:VCALENDAR
VERSION:2.0
PRODID:-//SCEAV Frýdek-Místek - ECPv6.15.15//NONSGML v1.0//EN
CALSCALE:GREGORIAN
METHOD:PUBLISH
X-ORIGINAL-URL:https://fajnysbor.cz
X-WR-CALDESC:Akce na SCEAV Frýdek-Místek
REFRESH-INTERVAL;VALUE=DURATION:PT1H
X-Robots-Tag:noindex
X-PUBLISHED-TTL:PT1H
BEGIN:VTIMEZONE
TZID:Europe/Prague
BEGIN:DAYLIGHT
TZOFFSETFROM:+0100
TZOFFSETTO:+0200
TZNAME:CEST
DTSTART:20250330T010000
END:DAYLIGHT
BEGIN:STANDARD
TZOFFSETFROM:+0200
TZOFFSETTO:+0100
TZNAME:CET
DTSTART:20251026T010000
END:STANDARD
BEGIN:DAYLIGHT
TZOFFSETFROM:+0100
TZOFFSETTO:+0200
TZNAME:CEST
DTSTART:20260329T010000
END:DAYLIGHT
BEGIN:STANDARD
TZOFFSETFROM:+0200
TZOFFSETTO:+0100
TZNAME:CET
DTSTART:20261025T010000
END:STANDARD
BEGIN:DAYLIGHT
TZOFFSETFROM:+0100
TZOFFSETTO:+0200
TZNAME:CEST
DTSTART:20270328T010000
END:DAYLIGHT
BEGIN:STANDARD
TZOFFSETFROM:+0200
TZOFFSETTO:+0100
TZNAME:CET
DTSTART:20271031T010000
END:STANDARD
END:VTIMEZONE
BEGIN:VEVENT
DTSTART;TZID=Europe/Prague:20260424T170000
DTEND;TZID=Europe/Prague:20260424T210000
DTSTAMP:20260419T151600
CREATED:20250604T201216Z
LAST-MODIFIED:20250604T202024Z
UID:10000056-1777050000-1777064400@fajnysbor.cz
SUMMARY:Mládež
DESCRIPTION:Pravidelné setkání mládeže (pro všechny středoškoláky a vysokoškoláky) v našem Fajném sboru. Na pořadu dne je příjemné setkání party plné srandy\, memů a zamyšlení nad tím životním moudrem… a Bohem. \nZajimá tě\, co děláme u nás na mládeži? Sleduj náš Instagram @_fajnamladez_ nebo příjď k nám v pátek. Rádi tě uvidíme.
URL:https://fajnysbor.cz/akce/mladez/2026-04-24/
LOCATION:Fajná fara\, Smetanová 376\, Frýdek-Místek\, Moravskoslezský kraj\, 738 01\, Czech Republic
ATTACH;FMTTYPE=image/jpeg:https://fajnysbor.cz/wp-content/uploads/2025/06/mladez_rev1.jpg
ORGANIZER;CN="Tom%C3%A1%C5%A1 Svoboda":MAILTO:tomas.svoboda@fajnysbor.cz
END:VEVENT
BEGIN:VEVENT
DTSTART;TZID=Europe/Prague:20260501T170000
DTEND;TZID=Europe/Prague:20260501T210000
DTSTAMP:20260419T151600
CREATED:20250604T201216Z
LAST-MODIFIED:20250604T202024Z
UID:10000057-1777654800-1777669200@fajnysbor.cz
SUMMARY:Mládež
DESCRIPTION:Pravidelné setkání mládeže (pro všechny středoškoláky a vysokoškoláky) v našem Fajném sboru. Na pořadu dne je příjemné setkání party plné srandy\, memů a zamyšlení nad tím životním moudrem… a Bohem. \nZajimá tě\, co děláme u nás na mládeži? Sleduj náš Instagram @_fajnamladez_ nebo příjď k nám v pátek. Rádi tě uvidíme.
URL:https://fajnysbor.cz/akce/mladez/2026-05-01/
LOCATION:Fajná fara\, Smetanová 376\, Frýdek-Místek\, Moravskoslezský kraj\, 738 01\, Czech Republic
ATTACH;FMTTYPE=image/jpeg:https://fajnysbor.cz/wp-content/uploads/2025/06/mladez_rev1.jpg
ORGANIZER;CN="Tom%C3%A1%C5%A1 Svoboda":MAILTO:tomas.svoboda@fajnysbor.cz
END:VEVENT
BEGIN:VEVENT
DTSTART;TZID=Europe/Prague:20260508T170000
DTEND;TZID=Europe/Prague:20260508T210000
DTSTAMP:20260419T151600
CREATED:20250604T201216Z
LAST-MODIFIED:20250604T202024Z
UID:10000058-1778259600-1778274000@fajnysbor.cz
SUMMARY:Mládež
DESCRIPTION:Pravidelné setkání mládeže (pro všechny středoškoláky a vysokoškoláky) v našem Fajném sboru. Na pořadu dne je příjemné setkání party plné srandy\, memů a zamyšlení nad tím životním moudrem… a Bohem. \nZajimá tě\, co děláme u nás na mládeži? Sleduj náš Instagram @_fajnamladez_ nebo příjď k nám v pátek. Rádi tě uvidíme.
URL:https://fajnysbor.cz/akce/mladez/2026-05-08/
LOCATION:Fajná fara\, Smetanová 376\, Frýdek-Místek\, Moravskoslezský kraj\, 738 01\, Czech Republic
ATTACH;FMTTYPE=image/jpeg:https://fajnysbor.cz/wp-content/uploads/2025/06/mladez_rev1.jpg
ORGANIZER;CN="Tom%C3%A1%C5%A1 Svoboda":MAILTO:tomas.svoboda@fajnysbor.cz
END:VEVENT
BEGIN:VEVENT
DTSTART;TZID=Europe/Prague:20260515T170000
DTEND;TZID=Europe/Prague:20260515T210000
DTSTAMP:20260419T151600
CREATED:20250604T201216Z
LAST-MODIFIED:20250604T202024Z
UID:10000059-1778864400-1778878800@fajnysbor.cz
SUMMARY:Mládež
DESCRIPTION:Pravidelné setkání mládeže (pro všechny středoškoláky a vysokoškoláky) v našem Fajném sboru. Na pořadu dne je příjemné setkání party plné srandy\, memů a zamyšlení nad tím životním moudrem… a Bohem. \nZajimá tě\, co děláme u nás na mládeži? Sleduj náš Instagram @_fajnamladez_ nebo příjď k nám v pátek. Rádi tě uvidíme.
URL:https://fajnysbor.cz/akce/mladez/2026-05-15/
LOCATION:Fajná fara\, Smetanová 376\, Frýdek-Místek\, Moravskoslezský kraj\, 738 01\, Czech Republic
ATTACH;FMTTYPE=image/jpeg:https://fajnysbor.cz/wp-content/uploads/2025/06/mladez_rev1.jpg
ORGANIZER;CN="Tom%C3%A1%C5%A1 Svoboda":MAILTO:tomas.svoboda@fajnysbor.cz
END:VEVENT
BEGIN:VEVENT
DTSTART;TZID=Europe/Prague:20260522T170000
DTEND;TZID=Europe/Prague:20260522T210000
DTSTAMP:20260419T151600
CREATED:20250604T201216Z
LAST-MODIFIED:20250604T202024Z
UID:10000060-1779469200-1779483600@fajnysbor.cz
SUMMARY:Mládež
DESCRIPTION:Pravidelné setkání mládeže (pro všechny středoškoláky a vysokoškoláky) v našem Fajném sboru. Na pořadu dne je příjemné setkání party plné srandy\, memů a zamyšlení nad tím životním moudrem… a Bohem. \nZajimá tě\, co děláme u nás na mládeži? Sleduj náš Instagram @_fajnamladez_ nebo příjď k nám v pátek. Rádi tě uvidíme.
URL:https://fajnysbor.cz/akce/mladez/2026-05-22/
LOCATION:Fajná fara\, Smetanová 376\, Frýdek-Místek\, Moravskoslezský kraj\, 738 01\, Czech Republic
ATTACH;FMTTYPE=image/jpeg:https://fajnysbor.cz/wp-content/uploads/2025/06/mladez_rev1.jpg
ORGANIZER;CN="Tom%C3%A1%C5%A1 Svoboda":MAILTO:tomas.svoboda@fajnysbor.cz
END:VEVENT
BEGIN:VEVENT
DTSTART;TZID=Europe/Prague:20260529T170000
DTEND;TZID=Europe/Prague:20260529T210000
DTSTAMP:20260419T151600
CREATED:20250604T201216Z
LAST-MODIFIED:20250604T202024Z
UID:10000061-1780074000-1780088400@fajnysbor.cz
SUMMARY:Mládež
DESCRIPTION:Pravidelné setkání mládeže (pro všechny středoškoláky a vysokoškoláky) v našem Fajném sboru. Na pořadu dne je příjemné setkání party plné srandy\, memů a zamyšlení nad tím životním moudrem… a Bohem. \nZajimá tě\, co děláme u nás na mládeži? Sleduj náš Instagram @_fajnamladez_ nebo příjď k nám v pátek. Rádi tě uvidíme.
URL:https://fajnysbor.cz/akce/mladez/2026-05-29/
LOCATION:Fajná fara\, Smetanová 376\, Frýdek-Místek\, Moravskoslezský kraj\, 738 01\, Czech Republic
ATTACH;FMTTYPE=image/jpeg:https://fajnysbor.cz/wp-content/uploads/2025/06/mladez_rev1.jpg
ORGANIZER;CN="Tom%C3%A1%C5%A1 Svoboda":MAILTO:tomas.svoboda@fajnysbor.cz
END:VEVENT
BEGIN:VEVENT
DTSTART;TZID=Europe/Prague:20260605T170000
DTEND;TZID=Europe/Prague:20260605T210000
DTSTAMP:20260419T151600
CREATED:20250604T201216Z
LAST-MODIFIED:20250604T202024Z
UID:10000062-1780678800-1780693200@fajnysbor.cz
SUMMARY:Mládež
DESCRIPTION:Pravidelné setkání mládeže (pro všechny středoškoláky a vysokoškoláky) v našem Fajném sboru. Na pořadu dne je příjemné setkání party plné srandy\, memů a zamyšlení nad tím životním moudrem… a Bohem. \nZajimá tě\, co děláme u nás na mládeži? Sleduj náš Instagram @_fajnamladez_ nebo příjď k nám v pátek. Rádi tě uvidíme.
URL:https://fajnysbor.cz/akce/mladez/2026-06-05/
LOCATION:Fajná fara\, Smetanová 376\, Frýdek-Místek\, Moravskoslezský kraj\, 738 01\, Czech Republic
ATTACH;FMTTYPE=image/jpeg:https://fajnysbor.cz/wp-content/uploads/2025/06/mladez_rev1.jpg
ORGANIZER;CN="Tom%C3%A1%C5%A1 Svoboda":MAILTO:tomas.svoboda@fajnysbor.cz
END:VEVENT
BEGIN:VEVENT
DTSTART;TZID=Europe/Prague:20260612T170000
DTEND;TZID=Europe/Prague:20260612T210000
DTSTAMP:20260419T151600
CREATED:20250604T201216Z
LAST-MODIFIED:20250604T202024Z
UID:10000063-1781283600-1781298000@fajnysbor.cz
SUMMARY:Mládež
DESCRIPTION:Pravidelné setkání mládeže (pro všechny středoškoláky a vysokoškoláky) v našem Fajném sboru. Na pořadu dne je příjemné setkání party plné srandy\, memů a zamyšlení nad tím životním moudrem… a Bohem. \nZajimá tě\, co děláme u nás na mládeži? Sleduj náš Instagram @_fajnamladez_ nebo příjď k nám v pátek. Rádi tě uvidíme.
URL:https://fajnysbor.cz/akce/mladez/2026-06-12/
LOCATION:Fajná fara\, Smetanová 376\, Frýdek-Místek\, Moravskoslezský kraj\, 738 01\, Czech Republic
ATTACH;FMTTYPE=image/jpeg:https://fajnysbor.cz/wp-content/uploads/2025/06/mladez_rev1.jpg
ORGANIZER;CN="Tom%C3%A1%C5%A1 Svoboda":MAILTO:tomas.svoboda@fajnysbor.cz
END:VEVENT
BEGIN:VEVENT
DTSTART;TZID=Europe/Prague:20260619T170000
DTEND;TZID=Europe/Prague:20260619T210000
DTSTAMP:20260419T151600
CREATED:20250604T201216Z
LAST-MODIFIED:20250604T202024Z
UID:10000064-1781888400-1781902800@fajnysbor.cz
SUMMARY:Mládež
DESCRIPTION:Pravidelné setkání mládeže (pro všechny středoškoláky a vysokoškoláky) v našem Fajném sboru. Na pořadu dne je příjemné setkání party plné srandy\, memů a zamyšlení nad tím životním moudrem… a Bohem. \nZajimá tě\, co děláme u nás na mládeži? Sleduj náš Instagram @_fajnamladez_ nebo příjď k nám v pátek. Rádi tě uvidíme.
URL:https://fajnysbor.cz/akce/mladez/2026-06-19/
LOCATION:Fajná fara\, Smetanová 376\, Frýdek-Místek\, Moravskoslezský kraj\, 738 01\, Czech Republic
ATTACH;FMTTYPE=image/jpeg:https://fajnysbor.cz/wp-content/uploads/2025/06/mladez_rev1.jpg
ORGANIZER;CN="Tom%C3%A1%C5%A1 Svoboda":MAILTO:tomas.svoboda@fajnysbor.cz
END:VEVENT
BEGIN:VEVENT
DTSTART;TZID=Europe/Prague:20260626T170000
DTEND;TZID=Europe/Prague:20260626T210000
DTSTAMP:20260419T151600
CREATED:20250604T201216Z
LAST-MODIFIED:20250604T202024Z
UID:10000065-1782493200-1782507600@fajnysbor.cz
SUMMARY:Mládež
DESCRIPTION:Pravidelné setkání mládeže (pro všechny středoškoláky a vysokoškoláky) v našem Fajném sboru. Na pořadu dne je příjemné setkání party plné srandy\, memů a zamyšlení nad tím životním moudrem… a Bohem. \nZajimá tě\, co děláme u nás na mládeži? Sleduj náš Instagram @_fajnamladez_ nebo příjď k nám v pátek. Rádi tě uvidíme.
URL:https://fajnysbor.cz/akce/mladez/2026-06-26/
LOCATION:Fajná fara\, Smetanová 376\, Frýdek-Místek\, Moravskoslezský kraj\, 738 01\, Czech Republic
ATTACH;FMTTYPE=image/jpeg:https://fajnysbor.cz/wp-content/uploads/2025/06/mladez_rev1.jpg
ORGANIZER;CN="Tom%C3%A1%C5%A1 Svoboda":MAILTO:tomas.svoboda@fajnysbor.cz
END:VEVENT
BEGIN:VEVENT
DTSTART;TZID=Europe/Prague:20260703T170000
DTEND;TZID=Europe/Prague:20260703T210000
DTSTAMP:20260419T151600
CREATED:20250604T201216Z
LAST-MODIFIED:20250604T202024Z
UID:10000066-1783098000-1783112400@fajnysbor.cz
SUMMARY:Mládež
DESCRIPTION:Pravidelné setkání mládeže (pro všechny středoškoláky a vysokoškoláky) v našem Fajném sboru. Na pořadu dne je příjemné setkání party plné srandy\, memů a zamyšlení nad tím životním moudrem… a Bohem. \nZajimá tě\, co děláme u nás na mládeži? Sleduj náš Instagram @_fajnamladez_ nebo příjď k nám v pátek. Rádi tě uvidíme.
URL:https://fajnysbor.cz/akce/mladez/2026-07-03/
LOCATION:Fajná fara\, Smetanová 376\, Frýdek-Místek\, Moravskoslezský kraj\, 738 01\, Czech Republic
ATTACH;FMTTYPE=image/jpeg:https://fajnysbor.cz/wp-content/uploads/2025/06/mladez_rev1.jpg
ORGANIZER;CN="Tom%C3%A1%C5%A1 Svoboda":MAILTO:tomas.svoboda@fajnysbor.cz
END:VEVENT
BEGIN:VEVENT
DTSTART;TZID=Europe/Prague:20260710T170000
DTEND;TZID=Europe/Prague:20260710T210000
DTSTAMP:20260419T151600
CREATED:20250604T201216Z
LAST-MODIFIED:20250604T202024Z
UID:10000067-1783702800-1783717200@fajnysbor.cz
SUMMARY:Mládež
DESCRIPTION:Pravidelné setkání mládeže (pro všechny středoškoláky a vysokoškoláky) v našem Fajném sboru. Na pořadu dne je příjemné setkání party plné srandy\, memů a zamyšlení nad tím životním moudrem… a Bohem. \nZajimá tě\, co děláme u nás na mládeži? Sleduj náš Instagram @_fajnamladez_ nebo příjď k nám v pátek. Rádi tě uvidíme.
URL:https://fajnysbor.cz/akce/mladez/2026-07-10/
LOCATION:Fajná fara\, Smetanová 376\, Frýdek-Místek\, Moravskoslezský kraj\, 738 01\, Czech Republic
ATTACH;FMTTYPE=image/jpeg:https://fajnysbor.cz/wp-content/uploads/2025/06/mladez_rev1.jpg
ORGANIZER;CN="Tom%C3%A1%C5%A1 Svoboda":MAILTO:tomas.svoboda@fajnysbor.cz
END:VEVENT
BEGIN:VEVENT
DTSTART;TZID=Europe/Prague:20260717T170000
DTEND;TZID=Europe/Prague:20260717T210000
DTSTAMP:20260419T151600
CREATED:20250604T201216Z
LAST-MODIFIED:20250604T202024Z
UID:10000068-1784307600-1784322000@fajnysbor.cz
SUMMARY:Mládež
DESCRIPTION:Pravidelné setkání mládeže (pro všechny středoškoláky a vysokoškoláky) v našem Fajném sboru. Na pořadu dne je příjemné setkání party plné srandy\, memů a zamyšlení nad tím životním moudrem… a Bohem. \nZajimá tě\, co děláme u nás na mládeži? Sleduj náš Instagram @_fajnamladez_ nebo příjď k nám v pátek. Rádi tě uvidíme.
URL:https://fajnysbor.cz/akce/mladez/2026-07-17/
LOCATION:Fajná fara\, Smetanová 376\, Frýdek-Místek\, Moravskoslezský kraj\, 738 01\, Czech Republic
ATTACH;FMTTYPE=image/jpeg:https://fajnysbor.cz/wp-content/uploads/2025/06/mladez_rev1.jpg
ORGANIZER;CN="Tom%C3%A1%C5%A1 Svoboda":MAILTO:tomas.svoboda@fajnysbor.cz
END:VEVENT
BEGIN:VEVENT
DTSTART;TZID=Europe/Prague:20260724T170000
DTEND;TZID=Europe/Prague:20260724T210000
DTSTAMP:20260419T151600
CREATED:20250604T201216Z
LAST-MODIFIED:20250604T202024Z
UID:10000069-1784912400-1784926800@fajnysbor.cz
SUMMARY:Mládež
DESCRIPTION:Pravidelné setkání mládeže (pro všechny středoškoláky a vysokoškoláky) v našem Fajném sboru. Na pořadu dne je příjemné setkání party plné srandy\, memů a zamyšlení nad tím životním moudrem… a Bohem. \nZajimá tě\, co děláme u nás na mládeži? Sleduj náš Instagram @_fajnamladez_ nebo příjď k nám v pátek. Rádi tě uvidíme.
URL:https://fajnysbor.cz/akce/mladez/2026-07-24/
LOCATION:Fajná fara\, Smetanová 376\, Frýdek-Místek\, Moravskoslezský kraj\, 738 01\, Czech Republic
ATTACH;FMTTYPE=image/jpeg:https://fajnysbor.cz/wp-content/uploads/2025/06/mladez_rev1.jpg
ORGANIZER;CN="Tom%C3%A1%C5%A1 Svoboda":MAILTO:tomas.svoboda@fajnysbor.cz
END:VEVENT
BEGIN:VEVENT
DTSTART;TZID=Europe/Prague:20260731T170000
DTEND;TZID=Europe/Prague:20260731T210000
DTSTAMP:20260419T151600
CREATED:20250604T201216Z
LAST-MODIFIED:20250604T202024Z
UID:10000070-1785517200-1785531600@fajnysbor.cz
SUMMARY:Mládež
DESCRIPTION:Pravidelné setkání mládeže (pro všechny středoškoláky a vysokoškoláky) v našem Fajném sboru. Na pořadu dne je příjemné setkání party plné srandy\, memů a zamyšlení nad tím životním moudrem… a Bohem. \nZajimá tě\, co děláme u nás na mládeži? Sleduj náš Instagram @_fajnamladez_ nebo příjď k nám v pátek. Rádi tě uvidíme.
URL:https://fajnysbor.cz/akce/mladez/2026-07-31/
LOCATION:Fajná fara\, Smetanová 376\, Frýdek-Místek\, Moravskoslezský kraj\, 738 01\, Czech Republic
ATTACH;FMTTYPE=image/jpeg:https://fajnysbor.cz/wp-content/uploads/2025/06/mladez_rev1.jpg
ORGANIZER;CN="Tom%C3%A1%C5%A1 Svoboda":MAILTO:tomas.svoboda@fajnysbor.cz
END:VEVENT
BEGIN:VEVENT
DTSTART;TZID=Europe/Prague:20260807T170000
DTEND;TZID=Europe/Prague:20260807T210000
DTSTAMP:20260419T151600
CREATED:20250604T201216Z
LAST-MODIFIED:20250604T202024Z
UID:10000071-1786122000-1786136400@fajnysbor.cz
SUMMARY:Mládež
DESCRIPTION:Pravidelné setkání mládeže (pro všechny středoškoláky a vysokoškoláky) v našem Fajném sboru. Na pořadu dne je příjemné setkání party plné srandy\, memů a zamyšlení nad tím životním moudrem… a Bohem. \nZajimá tě\, co děláme u nás na mládeži? Sleduj náš Instagram @_fajnamladez_ nebo příjď k nám v pátek. Rádi tě uvidíme.
URL:https://fajnysbor.cz/akce/mladez/2026-08-07/
LOCATION:Fajná fara\, Smetanová 376\, Frýdek-Místek\, Moravskoslezský kraj\, 738 01\, Czech Republic
ATTACH;FMTTYPE=image/jpeg:https://fajnysbor.cz/wp-content/uploads/2025/06/mladez_rev1.jpg
ORGANIZER;CN="Tom%C3%A1%C5%A1 Svoboda":MAILTO:tomas.svoboda@fajnysbor.cz
END:VEVENT
BEGIN:VEVENT
DTSTART;TZID=Europe/Prague:20260814T170000
DTEND;TZID=Europe/Prague:20260814T210000
DTSTAMP:20260419T151600
CREATED:20250604T201216Z
LAST-MODIFIED:20250604T202024Z
UID:10000072-1786726800-1786741200@fajnysbor.cz
SUMMARY:Mládež
DESCRIPTION:Pravidelné setkání mládeže (pro všechny středoškoláky a vysokoškoláky) v našem Fajném sboru. Na pořadu dne je příjemné setkání party plné srandy\, memů a zamyšlení nad tím životním moudrem… a Bohem. \nZajimá tě\, co děláme u nás na mládeži? Sleduj náš Instagram @_fajnamladez_ nebo příjď k nám v pátek. Rádi tě uvidíme.
URL:https://fajnysbor.cz/akce/mladez/2026-08-14/
LOCATION:Fajná fara\, Smetanová 376\, Frýdek-Místek\, Moravskoslezský kraj\, 738 01\, Czech Republic
ATTACH;FMTTYPE=image/jpeg:https://fajnysbor.cz/wp-content/uploads/2025/06/mladez_rev1.jpg
ORGANIZER;CN="Tom%C3%A1%C5%A1 Svoboda":MAILTO:tomas.svoboda@fajnysbor.cz
END:VEVENT
BEGIN:VEVENT
DTSTART;TZID=Europe/Prague:20260821T170000
DTEND;TZID=Europe/Prague:20260821T210000
DTSTAMP:20260419T151600
CREATED:20250604T201216Z
LAST-MODIFIED:20250604T202024Z
UID:10000073-1787331600-1787346000@fajnysbor.cz
SUMMARY:Mládež
DESCRIPTION:Pravidelné setkání mládeže (pro všechny středoškoláky a vysokoškoláky) v našem Fajném sboru. Na pořadu dne je příjemné setkání party plné srandy\, memů a zamyšlení nad tím životním moudrem… a Bohem. \nZajimá tě\, co děláme u nás na mládeži? Sleduj náš Instagram @_fajnamladez_ nebo příjď k nám v pátek. Rádi tě uvidíme.
URL:https://fajnysbor.cz/akce/mladez/2026-08-21/
LOCATION:Fajná fara\, Smetanová 376\, Frýdek-Místek\, Moravskoslezský kraj\, 738 01\, Czech Republic
ATTACH;FMTTYPE=image/jpeg:https://fajnysbor.cz/wp-content/uploads/2025/06/mladez_rev1.jpg
ORGANIZER;CN="Tom%C3%A1%C5%A1 Svoboda":MAILTO:tomas.svoboda@fajnysbor.cz
END:VEVENT
BEGIN:VEVENT
DTSTART;TZID=Europe/Prague:20260828T170000
DTEND;TZID=Europe/Prague:20260828T210000
DTSTAMP:20260419T151600
CREATED:20250604T201216Z
LAST-MODIFIED:20250604T202024Z
UID:10000074-1787936400-1787950800@fajnysbor.cz
SUMMARY:Mládež
DESCRIPTION:Pravidelné setkání mládeže (pro všechny středoškoláky a vysokoškoláky) v našem Fajném sboru. Na pořadu dne je příjemné setkání party plné srandy\, memů a zamyšlení nad tím životním moudrem… a Bohem. \nZajimá tě\, co děláme u nás na mládeži? Sleduj náš Instagram @_fajnamladez_ nebo příjď k nám v pátek. Rádi tě uvidíme.
URL:https://fajnysbor.cz/akce/mladez/2026-08-28/
LOCATION:Fajná fara\, Smetanová 376\, Frýdek-Místek\, Moravskoslezský kraj\, 738 01\, Czech Republic
ATTACH;FMTTYPE=image/jpeg:https://fajnysbor.cz/wp-content/uploads/2025/06/mladez_rev1.jpg
ORGANIZER;CN="Tom%C3%A1%C5%A1 Svoboda":MAILTO:tomas.svoboda@fajnysbor.cz
END:VEVENT
BEGIN:VEVENT
DTSTART;TZID=Europe/Prague:20260904T170000
DTEND;TZID=Europe/Prague:20260904T210000
DTSTAMP:20260419T151600
CREATED:20250604T201216Z
LAST-MODIFIED:20250604T202024Z
UID:10000075-1788541200-1788555600@fajnysbor.cz
SUMMARY:Mládež
DESCRIPTION:Pravidelné setkání mládeže (pro všechny středoškoláky a vysokoškoláky) v našem Fajném sboru. Na pořadu dne je příjemné setkání party plné srandy\, memů a zamyšlení nad tím životním moudrem… a Bohem. \nZajimá tě\, co děláme u nás na mládeži? Sleduj náš Instagram @_fajnamladez_ nebo příjď k nám v pátek. Rádi tě uvidíme.
URL:https://fajnysbor.cz/akce/mladez/2026-09-04/
LOCATION:Fajná fara\, Smetanová 376\, Frýdek-Místek\, Moravskoslezský kraj\, 738 01\, Czech Republic
ATTACH;FMTTYPE=image/jpeg:https://fajnysbor.cz/wp-content/uploads/2025/06/mladez_rev1.jpg
ORGANIZER;CN="Tom%C3%A1%C5%A1 Svoboda":MAILTO:tomas.svoboda@fajnysbor.cz
END:VEVENT
BEGIN:VEVENT
DTSTART;TZID=Europe/Prague:20260911T170000
DTEND;TZID=Europe/Prague:20260911T210000
DTSTAMP:20260419T151600
CREATED:20250604T201216Z
LAST-MODIFIED:20250604T202024Z
UID:10000076-1789146000-1789160400@fajnysbor.cz
SUMMARY:Mládež
DESCRIPTION:Pravidelné setkání mládeže (pro všechny středoškoláky a vysokoškoláky) v našem Fajném sboru. Na pořadu dne je příjemné setkání party plné srandy\, memů a zamyšlení nad tím životním moudrem… a Bohem. \nZajimá tě\, co děláme u nás na mládeži? Sleduj náš Instagram @_fajnamladez_ nebo příjď k nám v pátek. Rádi tě uvidíme.
URL:https://fajnysbor.cz/akce/mladez/2026-09-11/
LOCATION:Fajná fara\, Smetanová 376\, Frýdek-Místek\, Moravskoslezský kraj\, 738 01\, Czech Republic
ATTACH;FMTTYPE=image/jpeg:https://fajnysbor.cz/wp-content/uploads/2025/06/mladez_rev1.jpg
ORGANIZER;CN="Tom%C3%A1%C5%A1 Svoboda":MAILTO:tomas.svoboda@fajnysbor.cz
END:VEVENT
BEGIN:VEVENT
DTSTART;TZID=Europe/Prague:20260918T170000
DTEND;TZID=Europe/Prague:20260918T210000
DTSTAMP:20260419T151600
CREATED:20250604T201216Z
LAST-MODIFIED:20250604T202024Z
UID:10000077-1789750800-1789765200@fajnysbor.cz
SUMMARY:Mládež
DESCRIPTION:Pravidelné setkání mládeže (pro všechny středoškoláky a vysokoškoláky) v našem Fajném sboru. Na pořadu dne je příjemné setkání party plné srandy\, memů a zamyšlení nad tím životním moudrem… a Bohem. \nZajimá tě\, co děláme u nás na mládeži? Sleduj náš Instagram @_fajnamladez_ nebo příjď k nám v pátek. Rádi tě uvidíme.
URL:https://fajnysbor.cz/akce/mladez/2026-09-18/
LOCATION:Fajná fara\, Smetanová 376\, Frýdek-Místek\, Moravskoslezský kraj\, 738 01\, Czech Republic
ATTACH;FMTTYPE=image/jpeg:https://fajnysbor.cz/wp-content/uploads/2025/06/mladez_rev1.jpg
ORGANIZER;CN="Tom%C3%A1%C5%A1 Svoboda":MAILTO:tomas.svoboda@fajnysbor.cz
END:VEVENT
BEGIN:VEVENT
DTSTART;TZID=Europe/Prague:20260925T170000
DTEND;TZID=Europe/Prague:20260925T210000
DTSTAMP:20260419T151600
CREATED:20250604T201216Z
LAST-MODIFIED:20250604T202024Z
UID:10000078-1790355600-1790370000@fajnysbor.cz
SUMMARY:Mládež
DESCRIPTION:Pravidelné setkání mládeže (pro všechny středoškoláky a vysokoškoláky) v našem Fajném sboru. Na pořadu dne je příjemné setkání party plné srandy\, memů a zamyšlení nad tím životním moudrem… a Bohem. \nZajimá tě\, co děláme u nás na mládeži? Sleduj náš Instagram @_fajnamladez_ nebo příjď k nám v pátek. Rádi tě uvidíme.
URL:https://fajnysbor.cz/akce/mladez/2026-09-25/
LOCATION:Fajná fara\, Smetanová 376\, Frýdek-Místek\, Moravskoslezský kraj\, 738 01\, Czech Republic
ATTACH;FMTTYPE=image/jpeg:https://fajnysbor.cz/wp-content/uploads/2025/06/mladez_rev1.jpg
ORGANIZER;CN="Tom%C3%A1%C5%A1 Svoboda":MAILTO:tomas.svoboda@fajnysbor.cz
END:VEVENT
BEGIN:VEVENT
DTSTART;TZID=Europe/Prague:20261002T170000
DTEND;TZID=Europe/Prague:20261002T210000
DTSTAMP:20260419T151600
CREATED:20250604T201216Z
LAST-MODIFIED:20250604T202024Z
UID:10000079-1790960400-1790974800@fajnysbor.cz
SUMMARY:Mládež
DESCRIPTION:Pravidelné setkání mládeže (pro všechny středoškoláky a vysokoškoláky) v našem Fajném sboru. Na pořadu dne je příjemné setkání party plné srandy\, memů a zamyšlení nad tím životním moudrem… a Bohem. \nZajimá tě\, co děláme u nás na mládeži? Sleduj náš Instagram @_fajnamladez_ nebo příjď k nám v pátek. Rádi tě uvidíme.
URL:https://fajnysbor.cz/akce/mladez/2026-10-02/
LOCATION:Fajná fara\, Smetanová 376\, Frýdek-Místek\, Moravskoslezský kraj\, 738 01\, Czech Republic
ATTACH;FMTTYPE=image/jpeg:https://fajnysbor.cz/wp-content/uploads/2025/06/mladez_rev1.jpg
ORGANIZER;CN="Tom%C3%A1%C5%A1 Svoboda":MAILTO:tomas.svoboda@fajnysbor.cz
END:VEVENT
BEGIN:VEVENT
DTSTART;TZID=Europe/Prague:20261009T170000
DTEND;TZID=Europe/Prague:20261009T210000
DTSTAMP:20260419T151600
CREATED:20250604T201216Z
LAST-MODIFIED:20250604T202024Z
UID:10000080-1791565200-1791579600@fajnysbor.cz
SUMMARY:Mládež
DESCRIPTION:Pravidelné setkání mládeže (pro všechny středoškoláky a vysokoškoláky) v našem Fajném sboru. Na pořadu dne je příjemné setkání party plné srandy\, memů a zamyšlení nad tím životním moudrem… a Bohem. \nZajimá tě\, co děláme u nás na mládeži? Sleduj náš Instagram @_fajnamladez_ nebo příjď k nám v pátek. Rádi tě uvidíme.
URL:https://fajnysbor.cz/akce/mladez/2026-10-09/
LOCATION:Fajná fara\, Smetanová 376\, Frýdek-Místek\, Moravskoslezský kraj\, 738 01\, Czech Republic
ATTACH;FMTTYPE=image/jpeg:https://fajnysbor.cz/wp-content/uploads/2025/06/mladez_rev1.jpg
ORGANIZER;CN="Tom%C3%A1%C5%A1 Svoboda":MAILTO:tomas.svoboda@fajnysbor.cz
END:VEVENT
BEGIN:VEVENT
DTSTART;TZID=Europe/Prague:20261016T170000
DTEND;TZID=Europe/Prague:20261016T210000
DTSTAMP:20260419T151600
CREATED:20250604T201216Z
LAST-MODIFIED:20250604T202024Z
UID:10000081-1792170000-1792184400@fajnysbor.cz
SUMMARY:Mládež
DESCRIPTION:Pravidelné setkání mládeže (pro všechny středoškoláky a vysokoškoláky) v našem Fajném sboru. Na pořadu dne je příjemné setkání party plné srandy\, memů a zamyšlení nad tím životním moudrem… a Bohem. \nZajimá tě\, co děláme u nás na mládeži? Sleduj náš Instagram @_fajnamladez_ nebo příjď k nám v pátek. Rádi tě uvidíme.
URL:https://fajnysbor.cz/akce/mladez/2026-10-16/
LOCATION:Fajná fara\, Smetanová 376\, Frýdek-Místek\, Moravskoslezský kraj\, 738 01\, Czech Republic
ATTACH;FMTTYPE=image/jpeg:https://fajnysbor.cz/wp-content/uploads/2025/06/mladez_rev1.jpg
ORGANIZER;CN="Tom%C3%A1%C5%A1 Svoboda":MAILTO:tomas.svoboda@fajnysbor.cz
END:VEVENT
BEGIN:VEVENT
DTSTART;TZID=Europe/Prague:20261023T170000
DTEND;TZID=Europe/Prague:20261023T210000
DTSTAMP:20260419T151600
CREATED:20250604T201216Z
LAST-MODIFIED:20250604T202024Z
UID:10000082-1792774800-1792789200@fajnysbor.cz
SUMMARY:Mládež
DESCRIPTION:Pravidelné setkání mládeže (pro všechny středoškoláky a vysokoškoláky) v našem Fajném sboru. Na pořadu dne je příjemné setkání party plné srandy\, memů a zamyšlení nad tím životním moudrem… a Bohem. \nZajimá tě\, co děláme u nás na mládeži? Sleduj náš Instagram @_fajnamladez_ nebo příjď k nám v pátek. Rádi tě uvidíme.
URL:https://fajnysbor.cz/akce/mladez/2026-10-23/
LOCATION:Fajná fara\, Smetanová 376\, Frýdek-Místek\, Moravskoslezský kraj\, 738 01\, Czech Republic
ATTACH;FMTTYPE=image/jpeg:https://fajnysbor.cz/wp-content/uploads/2025/06/mladez_rev1.jpg
ORGANIZER;CN="Tom%C3%A1%C5%A1 Svoboda":MAILTO:tomas.svoboda@fajnysbor.cz
END:VEVENT
BEGIN:VEVENT
DTSTART;TZID=Europe/Prague:20261030T170000
DTEND;TZID=Europe/Prague:20261030T210000
DTSTAMP:20260419T151600
CREATED:20250604T201216Z
LAST-MODIFIED:20250604T202024Z
UID:10000083-1793379600-1793394000@fajnysbor.cz
SUMMARY:Mládež
DESCRIPTION:Pravidelné setkání mládeže (pro všechny středoškoláky a vysokoškoláky) v našem Fajném sboru. Na pořadu dne je příjemné setkání party plné srandy\, memů a zamyšlení nad tím životním moudrem… a Bohem. \nZajimá tě\, co děláme u nás na mládeži? Sleduj náš Instagram @_fajnamladez_ nebo příjď k nám v pátek. Rádi tě uvidíme.
URL:https://fajnysbor.cz/akce/mladez/2026-10-30/
LOCATION:Fajná fara\, Smetanová 376\, Frýdek-Místek\, Moravskoslezský kraj\, 738 01\, Czech Republic
ATTACH;FMTTYPE=image/jpeg:https://fajnysbor.cz/wp-content/uploads/2025/06/mladez_rev1.jpg
ORGANIZER;CN="Tom%C3%A1%C5%A1 Svoboda":MAILTO:tomas.svoboda@fajnysbor.cz
END:VEVENT
BEGIN:VEVENT
DTSTART;TZID=Europe/Prague:20261106T170000
DTEND;TZID=Europe/Prague:20261106T210000
DTSTAMP:20260419T151600
CREATED:20250604T201216Z
LAST-MODIFIED:20250604T202024Z
UID:10000084-1793984400-1793998800@fajnysbor.cz
SUMMARY:Mládež
DESCRIPTION:Pravidelné setkání mládeže (pro všechny středoškoláky a vysokoškoláky) v našem Fajném sboru. Na pořadu dne je příjemné setkání party plné srandy\, memů a zamyšlení nad tím životním moudrem… a Bohem. \nZajimá tě\, co děláme u nás na mládeži? Sleduj náš Instagram @_fajnamladez_ nebo příjď k nám v pátek. Rádi tě uvidíme.
URL:https://fajnysbor.cz/akce/mladez/2026-11-06/
LOCATION:Fajná fara\, Smetanová 376\, Frýdek-Místek\, Moravskoslezský kraj\, 738 01\, Czech Republic
ATTACH;FMTTYPE=image/jpeg:https://fajnysbor.cz/wp-content/uploads/2025/06/mladez_rev1.jpg
ORGANIZER;CN="Tom%C3%A1%C5%A1 Svoboda":MAILTO:tomas.svoboda@fajnysbor.cz
END:VEVENT
BEGIN:VEVENT
DTSTART;TZID=Europe/Prague:20261113T170000
DTEND;TZID=Europe/Prague:20261113T210000
DTSTAMP:20260419T151600
CREATED:20250604T201216Z
LAST-MODIFIED:20250604T202024Z
UID:10000085-1794589200-1794603600@fajnysbor.cz
SUMMARY:Mládež
DESCRIPTION:Pravidelné setkání mládeže (pro všechny středoškoláky a vysokoškoláky) v našem Fajném sboru. Na pořadu dne je příjemné setkání party plné srandy\, memů a zamyšlení nad tím životním moudrem… a Bohem. \nZajimá tě\, co děláme u nás na mládeži? Sleduj náš Instagram @_fajnamladez_ nebo příjď k nám v pátek. Rádi tě uvidíme.
URL:https://fajnysbor.cz/akce/mladez/2026-11-13/
LOCATION:Fajná fara\, Smetanová 376\, Frýdek-Místek\, Moravskoslezský kraj\, 738 01\, Czech Republic
ATTACH;FMTTYPE=image/jpeg:https://fajnysbor.cz/wp-content/uploads/2025/06/mladez_rev1.jpg
ORGANIZER;CN="Tom%C3%A1%C5%A1 Svoboda":MAILTO:tomas.svoboda@fajnysbor.cz
END:VEVENT
END:VCALENDAR