BEGIN:VCALENDAR
VERSION:2.0
PRODID:-//SCEAV Frýdek-Místek - ECPv6.15.15//NONSGML v1.0//EN
CALSCALE:GREGORIAN
METHOD:PUBLISH
X-WR-CALNAME:SCEAV Frýdek-Místek
X-ORIGINAL-URL:https://fajnysbor.cz
X-WR-CALDESC:Akce na SCEAV Frýdek-Místek
REFRESH-INTERVAL;VALUE=DURATION:PT1H
X-Robots-Tag:noindex
X-PUBLISHED-TTL:PT1H
BEGIN:VTIMEZONE
TZID:Europe/Prague
BEGIN:DAYLIGHT
TZOFFSETFROM:+0100
TZOFFSETTO:+0200
TZNAME:CEST
DTSTART:20240331T010000
END:DAYLIGHT
BEGIN:STANDARD
TZOFFSETFROM:+0200
TZOFFSETTO:+0100
TZNAME:CET
DTSTART:20241027T010000
END:STANDARD
BEGIN:DAYLIGHT
TZOFFSETFROM:+0100
TZOFFSETTO:+0200
TZNAME:CEST
DTSTART:20250330T010000
END:DAYLIGHT
BEGIN:STANDARD
TZOFFSETFROM:+0200
TZOFFSETTO:+0100
TZNAME:CET
DTSTART:20251026T010000
END:STANDARD
BEGIN:DAYLIGHT
TZOFFSETFROM:+0100
TZOFFSETTO:+0200
TZNAME:CEST
DTSTART:20260329T010000
END:DAYLIGHT
BEGIN:STANDARD
TZOFFSETFROM:+0200
TZOFFSETTO:+0100
TZNAME:CET
DTSTART:20261025T010000
END:STANDARD
END:VTIMEZONE
BEGIN:VEVENT
DTSTART;TZID=Europe/Prague:20251225T110000
DTEND;TZID=Europe/Prague:20251225T123000
DTSTAMP:20260419T145149
CREATED:20251005T172441Z
LAST-MODIFIED:20251020T084946Z
UID:10000821-1766660400-1766665800@fajnysbor.cz
SUMMARY:Vánoční Bohoslužby
DESCRIPTION:Bohoslužby se budou konat v červeném evangelickém kostele. Více informací bude upřesněno později.
URL:https://fajnysbor.cz/akce/vanocni-bohosluzby/
LOCATION:Fajná fara\, Smetanová 376\, Frýdek-Místek\, Moravskoslezský kraj\, 738 01\, Czech Republic
ATTACH;FMTTYPE=image/jpeg:https://fajnysbor.cz/wp-content/uploads/2025/10/DSC_2486-scaled-e1760950134198.jpg
END:VEVENT
END:VCALENDAR